BEGIN:VCALENDAR
VERSION:2.0
CALSCALE:GREGORIAN
PRODID:UnionActive
BEGIN:VEVENT
UID:11839623@ibew2.org
SUMMARY:Executive Board Meeting
DESCRIPTION:Contact:  \nLink for more information: http://ibew2.org/index.cfm?zone=/unionactive/view_calendar.cfm&calendarID=11839623&thisdate=05/11/2026&useCalSection=main
LOCATION:
URL:http://ibew2.org/index.cfm?zone=/unionactive/view_calendar.cfm&calendarID=11839623&thisdate=05/11/2026&useCalSection=main
DTSTART:20260511T210000Z
DTEND:20260511T210000Z
DTSTAMP:20240229T142720
TRIGGER:-PT60M
END:VEVENT
END:VCALENDAR
