BEGIN:VCALENDAR
VERSION:2.0
CALSCALE:GREGORIAN
PRODID:UnionActive
BEGIN:VEVENT
UID:11839609@ibew2.org
SUMMARY:Executive Board Meeting
DESCRIPTION:Contact:  \nLink for more information: http://ibew2.org/index.cfm?zone=/unionactive/view_calendar.cfm&calendarID=11839609&thisdate=03/10/2025&useCalSection=main
LOCATION:
URL:http://ibew2.org/index.cfm?zone=/unionactive/view_calendar.cfm&calendarID=11839609&thisdate=03/10/2025&useCalSection=main
DTSTART:20250310T210000Z
DTEND:20250310T210000Z
DTSTAMP:20240229T142324
TRIGGER:-PT60M
END:VEVENT
END:VCALENDAR
