BEGIN:VCALENDAR
VERSION:2.0
CALSCALE:GREGORIAN
PRODID:UnionActive
BEGIN:VEVENT
UID:11839593@ibew2.org
SUMMARY:Executive Board Meeting
DESCRIPTION:Contact:  \nLink for more information: http://ibew2.org/index.cfm?zone=/unionactive/view_calendar.cfm&calendarID=11839593&thisdate=11/13/2023&useCalSection=main
LOCATION:
URL:http://ibew2.org/index.cfm?zone=/unionactive/view_calendar.cfm&calendarID=11839593&thisdate=11/13/2023&useCalSection=main
DTSTART:20231113T220000Z
DTEND:20231113T220000Z
DTSTAMP:20240229T142608
TRIGGER:-PT60M
END:VEVENT
END:VCALENDAR
