BEGIN:VCALENDAR
VERSION:2.0
CALSCALE:GREGORIAN
PRODID:UnionActive
BEGIN:VEVENT
UID:11839582@ibew2.org
SUMMARY:Executive Board Meeting
DESCRIPTION:Contact:  \nLink for more information: http://ibew2.org/index.cfm?zone=/unionactive/view_calendar.cfm&calendarID=11839582&thisdate=12/12/2022&useCalSection=main
LOCATION:
URL:http://ibew2.org/index.cfm?zone=/unionactive/view_calendar.cfm&calendarID=11839582&thisdate=12/12/2022&useCalSection=main
DTSTART:20221212T220000Z
DTEND:20221212T220000Z
DTSTAMP:20240229T142647
TRIGGER:-PT60M
END:VEVENT
END:VCALENDAR
