BEGIN:VCALENDAR
VERSION:2.0
CALSCALE:GREGORIAN
PRODID:UnionActive
BEGIN:VEVENT
UID:11839581@ibew2.org
SUMMARY:Executive Board Meeting
DESCRIPTION:Contact:  \nLink for more information: http://ibew2.org/index.cfm?zone=/unionactive/view_calendar.cfm&calendarID=11839581&thisdate=11/14/2022&useCalSection=main
LOCATION:
URL:http://ibew2.org/index.cfm?zone=/unionactive/view_calendar.cfm&calendarID=11839581&thisdate=11/14/2022&useCalSection=main
DTSTART:20221114T220000Z
DTEND:20221114T220000Z
DTSTAMP:20240229T142938
TRIGGER:-PT60M
END:VEVENT
END:VCALENDAR
