BEGIN:VCALENDAR
VERSION:2.0
CALSCALE:GREGORIAN
PRODID:UnionActive
BEGIN:VEVENT
UID:11839556@ibew2.org
SUMMARY:Callaway Electric Cooperative Unit Meeting
DESCRIPTION:Contact:  \nLink for more information: http://ibew2.org/index.cfm?zone=/unionactive/view_calendar.cfm&calendarID=11839556&thisdate=05/17/2045&useCalSection=main
LOCATION:
URL:http://ibew2.org/index.cfm?zone=/unionactive/view_calendar.cfm&calendarID=11839556&thisdate=05/17/2045&useCalSection=main
DTSTART:20450517T210000Z
DTEND:20450517T210000Z
DTSTAMP:20240229T150449
TRIGGER:-PT60M
END:VEVENT
END:VCALENDAR
