BEGIN:VCALENDAR
VERSION:2.0
CALSCALE:GREGORIAN
PRODID:UnionActive
BEGIN:VEVENT
UID:11839551@ibew2.org
SUMMARY:Callaway Electric Cooperative Unit Meeting
DESCRIPTION:Contact:  \nLink for more information: http://ibew2.org/index.cfm?zone=/unionactive/view_calendar.cfm&calendarID=11839551&thisdate=07/20/2044&useCalSection=main
LOCATION:
URL:http://ibew2.org/index.cfm?zone=/unionactive/view_calendar.cfm&calendarID=11839551&thisdate=07/20/2044&useCalSection=main
DTSTART:20440720T210000Z
DTEND:20440720T210000Z
DTSTAMP:20240229T150255
TRIGGER:-PT60M
END:VEVENT
END:VCALENDAR
