BEGIN:VCALENDAR
VERSION:2.0
CALSCALE:GREGORIAN
PRODID:UnionActive
BEGIN:VEVENT
UID:11839546@ibew2.org
SUMMARY:Callaway Electric Cooperative Unit Meeting
DESCRIPTION:Contact:  \nLink for more information: http://ibew2.org/index.cfm?zone=/unionactive/view_calendar.cfm&calendarID=11839546&thisdate=09/16/2043&useCalSection=main
LOCATION:
URL:http://ibew2.org/index.cfm?zone=/unionactive/view_calendar.cfm&calendarID=11839546&thisdate=09/16/2043&useCalSection=main
DTSTART:20430916T210000Z
DTEND:20430916T210000Z
DTSTAMP:20240229T150128
TRIGGER:-PT60M
END:VEVENT
END:VCALENDAR
