BEGIN:VCALENDAR
VERSION:2.0
CALSCALE:GREGORIAN
PRODID:UnionActive
BEGIN:VEVENT
UID:11839542@ibew2.org
SUMMARY:Callaway Electric Cooperative Unit Meeting
DESCRIPTION:Contact:  \nLink for more information: http://ibew2.org/index.cfm?zone=/unionactive/view_calendar.cfm&calendarID=11839542&thisdate=01/21/2043&useCalSection=main
LOCATION:
URL:http://ibew2.org/index.cfm?zone=/unionactive/view_calendar.cfm&calendarID=11839542&thisdate=01/21/2043&useCalSection=main
DTSTART:20430121T220000Z
DTEND:20430121T220000Z
DTSTAMP:20240229T150137
TRIGGER:-PT60M
END:VEVENT
END:VCALENDAR
