BEGIN:VCALENDAR
VERSION:2.0
CALSCALE:GREGORIAN
PRODID:UnionActive
BEGIN:VEVENT
UID:11839537@ibew2.org
SUMMARY:Callaway Electric Cooperative Unit Meeting
DESCRIPTION:Contact:  \nLink for more information: http://ibew2.org/index.cfm?zone=/unionactive/view_calendar.cfm&calendarID=11839537&thisdate=03/19/2042&useCalSection=main
LOCATION:
URL:http://ibew2.org/index.cfm?zone=/unionactive/view_calendar.cfm&calendarID=11839537&thisdate=03/19/2042&useCalSection=main
DTSTART:20420319T210000Z
DTEND:20420319T210000Z
DTSTAMP:20240229T145915
TRIGGER:-PT60M
END:VEVENT
END:VCALENDAR
