BEGIN:VCALENDAR
VERSION:2.0
CALSCALE:GREGORIAN
PRODID:UnionActive
BEGIN:VEVENT
UID:11839532@ibew2.org
SUMMARY:Callaway Electric Cooperative Unit Meeting
DESCRIPTION:Contact:  \nLink for more information: http://ibew2.org/index.cfm?zone=/unionactive/view_calendar.cfm&calendarID=11839532&thisdate=05/15/2041&useCalSection=main
LOCATION:
URL:http://ibew2.org/index.cfm?zone=/unionactive/view_calendar.cfm&calendarID=11839532&thisdate=05/15/2041&useCalSection=main
DTSTART:20410515T210000Z
DTEND:20410515T210000Z
DTSTAMP:20240229T145713
TRIGGER:-PT60M
END:VEVENT
END:VCALENDAR
