BEGIN:VCALENDAR
VERSION:2.0
CALSCALE:GREGORIAN
PRODID:UnionActive
BEGIN:VEVENT
UID:11839503@ibew2.org
SUMMARY:Callaway Electric Cooperative Unit Meeting
DESCRIPTION:Contact:  \nLink for more information: http://ibew2.org/index.cfm?zone=/unionactive/view_calendar.cfm&calendarID=11839503&thisdate=07/16/2036&useCalSection=main
LOCATION:
URL:http://ibew2.org/index.cfm?zone=/unionactive/view_calendar.cfm&calendarID=11839503&thisdate=07/16/2036&useCalSection=main
DTSTART:20360716T210000Z
DTEND:20360716T210000Z
DTSTAMP:20240229T144819
TRIGGER:-PT60M
END:VEVENT
END:VCALENDAR
