BEGIN:VCALENDAR
VERSION:2.0
CALSCALE:GREGORIAN
PRODID:UnionActive
BEGIN:VEVENT
UID:11839497@ibew2.org
SUMMARY:Callaway Electric Cooperative Unit Meeting
DESCRIPTION:Contact:  \nLink for more information: http://ibew2.org/index.cfm?zone=/unionactive/view_calendar.cfm&calendarID=11839497&thisdate=07/18/2035&useCalSection=main
LOCATION:
URL:http://ibew2.org/index.cfm?zone=/unionactive/view_calendar.cfm&calendarID=11839497&thisdate=07/18/2035&useCalSection=main
DTSTART:20350718T210000Z
DTEND:20350718T210000Z
DTSTAMP:20240229T144509
TRIGGER:-PT60M
END:VEVENT
END:VCALENDAR
