BEGIN:VCALENDAR
VERSION:2.0
CALSCALE:GREGORIAN
PRODID:UnionActive
BEGIN:VEVENT
UID:11839464@ibew2.org
SUMMARY:Callaway Electric Cooperative Unit Meeting
DESCRIPTION:Contact:  \nLink for more information: http://ibew2.org/index.cfm?zone=/unionactive/view_calendar.cfm&calendarID=11839464&thisdate=01/16/2030&useCalSection=main
LOCATION:
URL:http://ibew2.org/index.cfm?zone=/unionactive/view_calendar.cfm&calendarID=11839464&thisdate=01/16/2030&useCalSection=main
DTSTART:20300116T220000Z
DTEND:20300116T220000Z
DTSTAMP:20240229T143603
TRIGGER:-PT60M
END:VEVENT
END:VCALENDAR
