BEGIN:VCALENDAR
VERSION:2.0
CALSCALE:GREGORIAN
PRODID:UnionActive
BEGIN:VEVENT
UID:11839438@ibew2.org
SUMMARY:Callaway Electric Cooperative Unit Meeting
DESCRIPTION:Contact:  \nLink for more information: http://ibew2.org/index.cfm?zone=/unionactive/view_calendar.cfm&calendarID=11839438&thisdate=09/17/2025&useCalSection=main
LOCATION:
URL:http://ibew2.org/index.cfm?zone=/unionactive/view_calendar.cfm&calendarID=11839438&thisdate=09/17/2025&useCalSection=main
DTSTART:20250917T210000Z
DTEND:20250917T210000Z
DTSTAMP:20240229T142347
TRIGGER:-PT60M
END:VEVENT
END:VCALENDAR
