BEGIN:VCALENDAR
VERSION:2.0
CALSCALE:GREGORIAN
PRODID:UnionActive
BEGIN:VEVENT
UID:11839434@ibew2.org
SUMMARY:Callaway Electric Cooperative Unit Meeting
DESCRIPTION:Contact:  \nLink for more information: http://ibew2.org/index.cfm?zone=/unionactive/view_calendar.cfm&calendarID=11839434&thisdate=01/15/2025&useCalSection=main
LOCATION:
URL:http://ibew2.org/index.cfm?zone=/unionactive/view_calendar.cfm&calendarID=11839434&thisdate=01/15/2025&useCalSection=main
DTSTART:20250115T220000Z
DTEND:20250115T220000Z
DTSTAMP:20240229T142352
TRIGGER:-PT60M
END:VEVENT
END:VCALENDAR
