BEGIN:VCALENDAR
VERSION:2.0
CALSCALE:GREGORIAN
PRODID:UnionActive
BEGIN:VEVENT
UID:11839428@ibew2.org
SUMMARY:Callaway Electric Cooperative Unit Meeting
DESCRIPTION:Contact:  \nLink for more information: http://ibew2.org/index.cfm?zone=/unionactive/view_calendar.cfm&calendarID=11839428&thisdate=01/17/2024&useCalSection=main
LOCATION:
URL:http://ibew2.org/index.cfm?zone=/unionactive/view_calendar.cfm&calendarID=11839428&thisdate=01/17/2024&useCalSection=main
DTSTART:20240117T220000Z
DTEND:20240117T220000Z
DTSTAMP:20240229T141945
TRIGGER:-PT60M
END:VEVENT
END:VCALENDAR
