BEGIN:VCALENDAR
VERSION:2.0
CALSCALE:GREGORIAN
PRODID:UnionActive
BEGIN:VEVENT
UID:11839427@ibew2.org
SUMMARY:Callaway Electric Cooperative Unit Meeting
DESCRIPTION:Contact:  \nLink for more information: http://ibew2.org/index.cfm?zone=/unionactive/view_calendar.cfm&calendarID=11839427&thisdate=11/15/2023&useCalSection=main
LOCATION:
URL:http://ibew2.org/index.cfm?zone=/unionactive/view_calendar.cfm&calendarID=11839427&thisdate=11/15/2023&useCalSection=main
DTSTART:20231115T220000Z
DTEND:20231115T220000Z
DTSTAMP:20240229T142314
TRIGGER:-PT60M
END:VEVENT
END:VCALENDAR
