BEGIN:VCALENDAR
VERSION:2.0
CALSCALE:GREGORIAN
PRODID:UnionActive
BEGIN:VEVENT
UID:11839418@ibew2.org
SUMMARY:Callaway Electric Cooperative Unit Meeting
DESCRIPTION:Contact:  \nLink for more information: http://ibew2.org/index.cfm?zone=/unionactive/view_calendar.cfm&calendarID=11839418&thisdate=05/18/2022&useCalSection=main
LOCATION:
URL:http://ibew2.org/index.cfm?zone=/unionactive/view_calendar.cfm&calendarID=11839418&thisdate=05/18/2022&useCalSection=main
DTSTART:20220518T210000Z
DTEND:20220518T210000Z
DTSTAMP:20240229T142652
TRIGGER:-PT60M
END:VEVENT
END:VCALENDAR
