BEGIN:VCALENDAR
VERSION:2.0
CALSCALE:GREGORIAN
PRODID:UnionActive
BEGIN:VEVENT
UID:11839415@ibew2.org
SUMMARY:Callaway Electric Cooperative Unit Meeting
DESCRIPTION:Contact:  \nLink for more information: http://ibew2.org/index.cfm?zone=/unionactive/view_calendar.cfm&calendarID=11839415&thisdate=11/17/2021&useCalSection=main
LOCATION:
URL:http://ibew2.org/index.cfm?zone=/unionactive/view_calendar.cfm&calendarID=11839415&thisdate=11/17/2021&useCalSection=main
DTSTART:20211117T220000Z
DTEND:20211117T220000Z
DTSTAMP:20240229T142936
TRIGGER:-PT60M
END:VEVENT
END:VCALENDAR
