BEGIN:VCALENDAR
VERSION:2.0
CALSCALE:GREGORIAN
PRODID:UnionActive
BEGIN:VEVENT
UID:11839399@ibew2.org
SUMMARY:Tri-County Electric Cooperative Unit Meeting
DESCRIPTION:Contact:  \nLink for more information: http://ibew2.org/index.cfm?zone=/unionactive/view_calendar.cfm&calendarID=11839399&thisdate=03/10/2044&useCalSection=main
LOCATION:
URL:http://ibew2.org/index.cfm?zone=/unionactive/view_calendar.cfm&calendarID=11839399&thisdate=03/10/2044&useCalSection=main
DTSTART:20440310T223000Z
DTEND:20440310T223000Z
DTSTAMP:20240229T150255
TRIGGER:-PT60M
END:VEVENT
END:VCALENDAR
