BEGIN:VCALENDAR
VERSION:2.0
CALSCALE:GREGORIAN
PRODID:UnionActive
BEGIN:VEVENT
UID:11839393@ibew2.org
SUMMARY:Tri-County Electric Cooperative Unit Meeting
DESCRIPTION:Contact:  \nLink for more information: http://ibew2.org/index.cfm?zone=/unionactive/view_calendar.cfm&calendarID=11839393&thisdate=03/12/2043&useCalSection=main
LOCATION:
URL:http://ibew2.org/index.cfm?zone=/unionactive/view_calendar.cfm&calendarID=11839393&thisdate=03/12/2043&useCalSection=main
DTSTART:20430312T213000Z
DTEND:20430312T213000Z
DTSTAMP:20240229T150136
TRIGGER:-PT60M
END:VEVENT
END:VCALENDAR
