BEGIN:VCALENDAR
VERSION:2.0
CALSCALE:GREGORIAN
PRODID:UnionActive
BEGIN:VEVENT
UID:11839382@ibew2.org
SUMMARY:Tri-County Electric Cooperative Unit Meeting
DESCRIPTION:Contact:  \nLink for more information: http://ibew2.org/index.cfm?zone=/unionactive/view_calendar.cfm&calendarID=11839382&thisdate=05/09/2041&useCalSection=main
LOCATION:
URL:http://ibew2.org/index.cfm?zone=/unionactive/view_calendar.cfm&calendarID=11839382&thisdate=05/09/2041&useCalSection=main
DTSTART:20410509T213000Z
DTEND:20410509T213000Z
DTSTAMP:20240229T145750
TRIGGER:-PT60M
END:VEVENT
END:VCALENDAR
