BEGIN:VCALENDAR
VERSION:2.0
CALSCALE:GREGORIAN
PRODID:UnionActive
BEGIN:VEVENT
UID:11839371@ibew2.org
SUMMARY:Tri-County Electric Cooperative Unit Meeting
DESCRIPTION:Contact:  \nLink for more information: http://ibew2.org/index.cfm?zone=/unionactive/view_calendar.cfm&calendarID=11839371&thisdate=07/14/2039&useCalSection=main
LOCATION:
URL:http://ibew2.org/index.cfm?zone=/unionactive/view_calendar.cfm&calendarID=11839371&thisdate=07/14/2039&useCalSection=main
DTSTART:20390714T213000Z
DTEND:20390714T213000Z
DTSTAMP:20240229T145403
TRIGGER:-PT60M
END:VEVENT
END:VCALENDAR
