BEGIN:VCALENDAR
VERSION:2.0
CALSCALE:GREGORIAN
PRODID:UnionActive
BEGIN:VEVENT
UID:11839368@ibew2.org
SUMMARY:Tri-County Electric Cooperative Unit Meeting
DESCRIPTION:Contact:  \nLink for more information: http://ibew2.org/index.cfm?zone=/unionactive/view_calendar.cfm&calendarID=11839368&thisdate=01/13/2039&useCalSection=main
LOCATION:
URL:http://ibew2.org/index.cfm?zone=/unionactive/view_calendar.cfm&calendarID=11839368&thisdate=01/13/2039&useCalSection=main
DTSTART:20390113T223000Z
DTEND:20390113T223000Z
DTSTAMP:20240229T145358
TRIGGER:-PT60M
END:VEVENT
END:VCALENDAR
