BEGIN:VCALENDAR
VERSION:2.0
CALSCALE:GREGORIAN
PRODID:UnionActive
BEGIN:VEVENT
UID:11839364@ibew2.org
SUMMARY:Tri-County Electric Cooperative Unit Meeting
DESCRIPTION:Contact:  \nLink for more information: http://ibew2.org/index.cfm?zone=/unionactive/view_calendar.cfm&calendarID=11839364&thisdate=05/13/2038&useCalSection=main
LOCATION:
URL:http://ibew2.org/index.cfm?zone=/unionactive/view_calendar.cfm&calendarID=11839364&thisdate=05/13/2038&useCalSection=main
DTSTART:20380513T213000Z
DTEND:20380513T213000Z
DTSTAMP:20240229T145123
TRIGGER:-PT60M
END:VEVENT
END:VCALENDAR
