BEGIN:VCALENDAR
VERSION:2.0
CALSCALE:GREGORIAN
PRODID:UnionActive
BEGIN:VEVENT
UID:11839323@ibew2.org
SUMMARY:Tri-County Electric Cooperative Unit Meeting
DESCRIPTION:Contact:  \nLink for more information: http://ibew2.org/index.cfm?zone=/unionactive/view_calendar.cfm&calendarID=11839323&thisdate=07/10/2031&useCalSection=main
LOCATION:
URL:http://ibew2.org/index.cfm?zone=/unionactive/view_calendar.cfm&calendarID=11839323&thisdate=07/10/2031&useCalSection=main
DTSTART:20310710T213000Z
DTEND:20310710T213000Z
DTSTAMP:20240229T143726
TRIGGER:-PT60M
END:VEVENT
END:VCALENDAR
