BEGIN:VCALENDAR
VERSION:2.0
CALSCALE:GREGORIAN
PRODID:UnionActive
BEGIN:VEVENT
UID:11839319@ibew2.org
SUMMARY:Tri-County Electric Cooperative Unit Meeting
DESCRIPTION:Contact:  \nLink for more information: http://ibew2.org/index.cfm?zone=/unionactive/view_calendar.cfm&calendarID=11839319&thisdate=11/14/2030&useCalSection=main
LOCATION:
URL:http://ibew2.org/index.cfm?zone=/unionactive/view_calendar.cfm&calendarID=11839319&thisdate=11/14/2030&useCalSection=main
DTSTART:20301114T223000Z
DTEND:20301114T223000Z
DTSTAMP:20240229T143603
TRIGGER:-PT60M
END:VEVENT
END:VCALENDAR
