BEGIN:VCALENDAR
VERSION:2.0
CALSCALE:GREGORIAN
PRODID:UnionActive
BEGIN:VEVENT
UID:11839283@ibew2.org
SUMMARY:Tri-County Electric Cooperative Unit Meeting
DESCRIPTION:Contact:  \nLink for more information: http://ibew2.org/index.cfm?zone=/unionactive/view_calendar.cfm&calendarID=11839283&thisdate=11/14/2024&useCalSection=main
LOCATION:
URL:http://ibew2.org/index.cfm?zone=/unionactive/view_calendar.cfm&calendarID=11839283&thisdate=11/14/2024&useCalSection=main
DTSTART:20241114T223000Z
DTEND:20241114T223000Z
DTSTAMP:20240229T141908
TRIGGER:-PT60M
END:VEVENT
END:VCALENDAR
