BEGIN:VCALENDAR
VERSION:2.0
CALSCALE:GREGORIAN
PRODID:UnionActive
BEGIN:VEVENT
UID:11839282@ibew2.org
SUMMARY:Tri-County Electric Cooperative Unit Meeting
DESCRIPTION:Contact:  \nLink for more information: http://ibew2.org/index.cfm?zone=/unionactive/view_calendar.cfm&calendarID=11839282&thisdate=09/12/2024&useCalSection=main
LOCATION:
URL:http://ibew2.org/index.cfm?zone=/unionactive/view_calendar.cfm&calendarID=11839282&thisdate=09/12/2024&useCalSection=main
DTSTART:20240912T213000Z
DTEND:20240912T213000Z
DTSTAMP:20240229T141944
TRIGGER:-PT60M
END:VEVENT
END:VCALENDAR
