BEGIN:VCALENDAR
VERSION:2.0
CALSCALE:GREGORIAN
PRODID:UnionActive
BEGIN:VEVENT
UID:11839265@ibew2.org
SUMMARY:Tri-County Electric Cooperative Unit Meeting
DESCRIPTION:Contact:  \nLink for more information: http://ibew2.org/index.cfm?zone=/unionactive/view_calendar.cfm&calendarID=11839265&thisdate=11/11/2021&useCalSection=main
LOCATION:
URL:http://ibew2.org/index.cfm?zone=/unionactive/view_calendar.cfm&calendarID=11839265&thisdate=11/11/2021&useCalSection=main
DTSTART:20211111T223000Z
DTEND:20211111T223000Z
DTSTAMP:20240229T142924
TRIGGER:-PT60M
END:VEVENT
END:VCALENDAR
