BEGIN:VCALENDAR
VERSION:2.0
CALSCALE:GREGORIAN
PRODID:UnionActive
BEGIN:VEVENT
UID:11839261@ibew2.org
SUMMARY:Howard Electric Cooperative Unit Meeting
DESCRIPTION:Contact:  \nLink for more information: http://ibew2.org/index.cfm?zone=/unionactive/view_calendar.cfm&calendarID=11839261&thisdate=03/14/2046&useCalSection=main
LOCATION:
URL:http://ibew2.org/index.cfm?zone=/unionactive/view_calendar.cfm&calendarID=11839261&thisdate=03/14/2046&useCalSection=main
DTSTART:20460314T213000Z
DTEND:20460314T213000Z
DTSTAMP:20240229T150616
TRIGGER:-PT60M
END:VEVENT
END:VCALENDAR
