BEGIN:VCALENDAR
VERSION:2.0
CALSCALE:GREGORIAN
PRODID:UnionActive
BEGIN:VEVENT
UID:11839236@ibew2.org
SUMMARY:Howard Electric Cooperative Unit Meeting
DESCRIPTION:Contact:  \nLink for more information: http://ibew2.org/index.cfm?zone=/unionactive/view_calendar.cfm&calendarID=11839236&thisdate=01/08/2042&useCalSection=main
LOCATION:
URL:http://ibew2.org/index.cfm?zone=/unionactive/view_calendar.cfm&calendarID=11839236&thisdate=01/08/2042&useCalSection=main
DTSTART:20420108T223000Z
DTEND:20420108T223000Z
DTSTAMP:20240229T145914
TRIGGER:-PT60M
END:VEVENT
END:VCALENDAR
