BEGIN:VCALENDAR
VERSION:2.0
CALSCALE:GREGORIAN
PRODID:UnionActive
BEGIN:VEVENT
UID:11839225@ibew2.org
SUMMARY:Howard Electric Cooperative Unit Meeting
DESCRIPTION:Contact:  \nLink for more information: http://ibew2.org/index.cfm?zone=/unionactive/view_calendar.cfm&calendarID=11839225&thisdate=03/14/2040&useCalSection=main
LOCATION:
URL:http://ibew2.org/index.cfm?zone=/unionactive/view_calendar.cfm&calendarID=11839225&thisdate=03/14/2040&useCalSection=main
DTSTART:20400314T213000Z
DTEND:20400314T213000Z
DTSTAMP:20240229T145539
TRIGGER:-PT60M
END:VEVENT
END:VCALENDAR
