BEGIN:VCALENDAR
VERSION:2.0
CALSCALE:GREGORIAN
PRODID:UnionActive
BEGIN:VEVENT
UID:11839217@ibew2.org
SUMMARY:Howard Electric Cooperative Unit Meeting
DESCRIPTION:Contact:  \nLink for more information: http://ibew2.org/index.cfm?zone=/unionactive/view_calendar.cfm&calendarID=11839217&thisdate=11/10/2038&useCalSection=main
LOCATION:
URL:http://ibew2.org/index.cfm?zone=/unionactive/view_calendar.cfm&calendarID=11839217&thisdate=11/10/2038&useCalSection=main
DTSTART:20381110T223000Z
DTEND:20381110T223000Z
DTSTAMP:20240229T145129
TRIGGER:-PT60M
END:VEVENT
END:VCALENDAR
