BEGIN:VCALENDAR
VERSION:2.0
CALSCALE:GREGORIAN
PRODID:UnionActive
BEGIN:VEVENT
UID:11839214@ibew2.org
SUMMARY:Howard Electric Cooperative Unit Meeting
DESCRIPTION:Contact:  \nLink for more information: http://ibew2.org/index.cfm?zone=/unionactive/view_calendar.cfm&calendarID=11839214&thisdate=05/12/2038&useCalSection=main
LOCATION:
URL:http://ibew2.org/index.cfm?zone=/unionactive/view_calendar.cfm&calendarID=11839214&thisdate=05/12/2038&useCalSection=main
DTSTART:20380512T213000Z
DTEND:20380512T213000Z
DTSTAMP:20240229T145130
TRIGGER:-PT60M
END:VEVENT
END:VCALENDAR
