BEGIN:VCALENDAR
VERSION:2.0
CALSCALE:GREGORIAN
PRODID:UnionActive
BEGIN:VEVENT
UID:11839212@ibew2.org
SUMMARY:Howard Electric Cooperative Unit Meeting
DESCRIPTION:Contact:  \nLink for more information: http://ibew2.org/index.cfm?zone=/unionactive/view_calendar.cfm&calendarID=11839212&thisdate=01/13/2038&useCalSection=main
LOCATION:
URL:http://ibew2.org/index.cfm?zone=/unionactive/view_calendar.cfm&calendarID=11839212&thisdate=01/13/2038&useCalSection=main
DTSTART:20380113T223000Z
DTEND:20380113T223000Z
DTSTAMP:20240229T145138
TRIGGER:-PT60M
END:VEVENT
END:VCALENDAR
