BEGIN:VCALENDAR
VERSION:2.0
CALSCALE:GREGORIAN
PRODID:UnionActive
BEGIN:VEVENT
UID:11839210@ibew2.org
SUMMARY:Howard Electric Cooperative Unit Meeting
DESCRIPTION:Contact:  \nLink for more information: http://ibew2.org/index.cfm?zone=/unionactive/view_calendar.cfm&calendarID=11839210&thisdate=09/09/2037&useCalSection=main
LOCATION:
URL:http://ibew2.org/index.cfm?zone=/unionactive/view_calendar.cfm&calendarID=11839210&thisdate=09/09/2037&useCalSection=main
DTSTART:20370909T213000Z
DTEND:20370909T213000Z
DTSTAMP:20240229T145013
TRIGGER:-PT60M
END:VEVENT
END:VCALENDAR
