BEGIN:VCALENDAR
VERSION:2.0
CALSCALE:GREGORIAN
PRODID:UnionActive
BEGIN:VEVENT
UID:11839205@ibew2.org
SUMMARY:Howard Electric Cooperative Unit Meeting
DESCRIPTION:Contact:  \nLink for more information: http://ibew2.org/index.cfm?zone=/unionactive/view_calendar.cfm&calendarID=11839205&thisdate=11/12/2036&useCalSection=main
LOCATION:
URL:http://ibew2.org/index.cfm?zone=/unionactive/view_calendar.cfm&calendarID=11839205&thisdate=11/12/2036&useCalSection=main
DTSTART:20361112T223000Z
DTEND:20361112T223000Z
DTSTAMP:20240229T144737
TRIGGER:-PT60M
END:VEVENT
END:VCALENDAR
