BEGIN:VCALENDAR
VERSION:2.0
CALSCALE:GREGORIAN
PRODID:UnionActive
BEGIN:VEVENT
UID:11839189@ibew2.org
SUMMARY:Howard Electric Cooperative Unit Meeting
DESCRIPTION:Contact:  \nLink for more information: http://ibew2.org/index.cfm?zone=/unionactive/view_calendar.cfm&calendarID=11839189&thisdate=03/08/2034&useCalSection=main
LOCATION:
URL:http://ibew2.org/index.cfm?zone=/unionactive/view_calendar.cfm&calendarID=11839189&thisdate=03/08/2034&useCalSection=main
DTSTART:20340308T223000Z
DTEND:20340308T223000Z
DTSTAMP:20240229T144306
TRIGGER:-PT60M
END:VEVENT
END:VCALENDAR
