BEGIN:VCALENDAR
VERSION:2.0
CALSCALE:GREGORIAN
PRODID:UnionActive
BEGIN:VEVENT
UID:11839178@ibew2.org
SUMMARY:Howard Electric Cooperative Unit Meeting
DESCRIPTION:Contact:  \nLink for more information: http://ibew2.org/index.cfm?zone=/unionactive/view_calendar.cfm&calendarID=11839178&thisdate=05/12/2032&useCalSection=main
LOCATION:
URL:http://ibew2.org/index.cfm?zone=/unionactive/view_calendar.cfm&calendarID=11839178&thisdate=05/12/2032&useCalSection=main
DTSTART:20320512T213000Z
DTEND:20320512T213000Z
DTSTAMP:20240229T143853
TRIGGER:-PT60M
END:VEVENT
END:VCALENDAR
