BEGIN:VCALENDAR
VERSION:2.0
CALSCALE:GREGORIAN
PRODID:UnionActive
BEGIN:VEVENT
UID:11839162@ibew2.org
SUMMARY:Howard Electric Cooperative Unit Meeting
DESCRIPTION:Contact:  \nLink for more information: http://ibew2.org/index.cfm?zone=/unionactive/view_calendar.cfm&calendarID=11839162&thisdate=09/12/2029&useCalSection=main
LOCATION:
URL:http://ibew2.org/index.cfm?zone=/unionactive/view_calendar.cfm&calendarID=11839162&thisdate=09/12/2029&useCalSection=main
DTSTART:20290912T213000Z
DTEND:20290912T213000Z
DTSTAMP:20240229T143408
TRIGGER:-PT60M
END:VEVENT
END:VCALENDAR
