BEGIN:VCALENDAR
VERSION:2.0
CALSCALE:GREGORIAN
PRODID:UnionActive
BEGIN:VEVENT
UID:11839154@ibew2.org
SUMMARY:Howard Electric Cooperative Unit Meeting
DESCRIPTION:Contact:  \nLink for more information: http://ibew2.org/index.cfm?zone=/unionactive/view_calendar.cfm&calendarID=11839154&thisdate=05/10/2028&useCalSection=main
LOCATION:
URL:http://ibew2.org/index.cfm?zone=/unionactive/view_calendar.cfm&calendarID=11839154&thisdate=05/10/2028&useCalSection=main
DTSTART:20280510T213000Z
DTEND:20280510T213000Z
DTSTAMP:20240229T143246
TRIGGER:-PT60M
END:VEVENT
END:VCALENDAR
