BEGIN:VCALENDAR
VERSION:2.0
CALSCALE:GREGORIAN
PRODID:UnionActive
BEGIN:VEVENT
UID:11839132@ibew2.org
SUMMARY:Howard Electric Cooperative Unit Meeting
DESCRIPTION:Contact:  \nLink for more information: http://ibew2.org/index.cfm?zone=/unionactive/view_calendar.cfm&calendarID=11839132&thisdate=09/11/2024&useCalSection=main
LOCATION:
URL:http://ibew2.org/index.cfm?zone=/unionactive/view_calendar.cfm&calendarID=11839132&thisdate=09/11/2024&useCalSection=main
DTSTART:20240911T213000Z
DTEND:20240911T213000Z
DTSTAMP:20240229T141908
TRIGGER:-PT60M
END:VEVENT
END:VCALENDAR
