BEGIN:VCALENDAR
VERSION:2.0
CALSCALE:GREGORIAN
PRODID:UnionActive
BEGIN:VEVENT
UID:11839130@ibew2.org
SUMMARY:Howard Electric Cooperative Unit Meeting
DESCRIPTION:Contact:  \nLink for more information: http://ibew2.org/index.cfm?zone=/unionactive/view_calendar.cfm&calendarID=11839130&thisdate=05/08/2024&useCalSection=main
LOCATION:
URL:http://ibew2.org/index.cfm?zone=/unionactive/view_calendar.cfm&calendarID=11839130&thisdate=05/08/2024&useCalSection=main
DTSTART:20240508T213000Z
DTEND:20240508T213000Z
DTSTAMP:20240229T141906
TRIGGER:-PT60M
END:VEVENT
END:VCALENDAR
