BEGIN:VCALENDAR
VERSION:2.0
CALSCALE:GREGORIAN
PRODID:UnionActive
BEGIN:VEVENT
UID:11839116@ibew2.org
SUMMARY:Howard Electric Cooperative Unit Meeting
DESCRIPTION:Contact:  \nLink for more information: http://ibew2.org/index.cfm?zone=/unionactive/view_calendar.cfm&calendarID=11839116&thisdate=01/12/2022&useCalSection=main
LOCATION:
URL:http://ibew2.org/index.cfm?zone=/unionactive/view_calendar.cfm&calendarID=11839116&thisdate=01/12/2022&useCalSection=main
DTSTART:20220112T223000Z
DTEND:20220112T223000Z
DTSTAMP:20240229T142613
TRIGGER:-PT60M
END:VEVENT
END:VCALENDAR
