BEGIN:VCALENDAR
VERSION:2.0
CALSCALE:GREGORIAN
PRODID:UnionActive
BEGIN:VEVENT
UID:11839115@ibew2.org
SUMMARY:Howard Electric Cooperative Unit Meeting
DESCRIPTION:Contact:  \nLink for more information: http://ibew2.org/index.cfm?zone=/unionactive/view_calendar.cfm&calendarID=11839115&thisdate=11/10/2021&useCalSection=main
LOCATION:
URL:http://ibew2.org/index.cfm?zone=/unionactive/view_calendar.cfm&calendarID=11839115&thisdate=11/10/2021&useCalSection=main
DTSTART:20211110T223000Z
DTEND:20211110T223000Z
DTSTAMP:20240229T142922
TRIGGER:-PT60M
END:VEVENT
END:VCALENDAR
