BEGIN:VCALENDAR
VERSION:2.0
CALSCALE:GREGORIAN
PRODID:UnionActive
BEGIN:VEVENT
UID:11839110@ibew2.org
SUMMARY:Citizens Electric Corporation Unit Meeting
DESCRIPTION:Contact:  \nLink for more information: http://ibew2.org/index.cfm?zone=/unionactive/view_calendar.cfm&calendarID=11839110&thisdate=12/28/2045&useCalSection=main
LOCATION:
URL:http://ibew2.org/index.cfm?zone=/unionactive/view_calendar.cfm&calendarID=11839110&thisdate=12/28/2045&useCalSection=main
DTSTART:20451228T220000Z
DTEND:20451228T220000Z
DTSTAMP:20240229T150450
TRIGGER:-PT60M
END:VEVENT
END:VCALENDAR
