BEGIN:VCALENDAR
VERSION:2.0
CALSCALE:GREGORIAN
PRODID:UnionActive
BEGIN:VEVENT
UID:11839104@ibew2.org
SUMMARY:Citizens Electric Corporation Unit Meeting
DESCRIPTION:Contact:  \nLink for more information: http://ibew2.org/index.cfm?zone=/unionactive/view_calendar.cfm&calendarID=11839104&thisdate=12/22/2044&useCalSection=main
LOCATION:
URL:http://ibew2.org/index.cfm?zone=/unionactive/view_calendar.cfm&calendarID=11839104&thisdate=12/22/2044&useCalSection=main
DTSTART:20441222T220000Z
DTEND:20441222T220000Z
DTSTAMP:20240229T150257
TRIGGER:-PT60M
END:VEVENT
END:VCALENDAR
