BEGIN:VCALENDAR
VERSION:2.0
CALSCALE:GREGORIAN
PRODID:UnionActive
BEGIN:VEVENT
UID:11839082@ibew2.org
SUMMARY:Citizens Electric Corporation Unit Meeting
DESCRIPTION:Contact:  \nLink for more information: http://ibew2.org/index.cfm?zone=/unionactive/view_calendar.cfm&calendarID=11839082&thisdate=04/25/2041&useCalSection=main
LOCATION:
URL:http://ibew2.org/index.cfm?zone=/unionactive/view_calendar.cfm&calendarID=11839082&thisdate=04/25/2041&useCalSection=main
DTSTART:20410425T210000Z
DTEND:20410425T210000Z
DTSTAMP:20240229T145752
TRIGGER:-PT60M
END:VEVENT
END:VCALENDAR
